Package: flowDensity Version: 1.38.0 Command: E:\biocbuild\bbs-3.19-bioc\R\bin\R.exe CMD check --no-multiarch --install=check:flowDensity.install-out.txt --library=E:\biocbuild\bbs-3.19-bioc\R\library --no-vignettes --timings flowDensity_1.38.0.tar.gz StartedAt: 2024-10-17 01:31:58 -0400 (Thu, 17 Oct 2024) EndedAt: 2024-10-17 01:33:04 -0400 (Thu, 17 Oct 2024) EllapsedTime: 66.6 seconds RetCode: 0 Status: WARNINGS CheckDir: flowDensity.Rcheck Warnings: 3