Package: flowDensity Version: 1.38.0 Command: F:\biocbuild\bbs-3.19-bioc\R\bin\R.exe CMD check --no-multiarch --install=check:flowDensity.install-out.txt --library=F:\biocbuild\bbs-3.19-bioc\R\library --no-vignettes --timings flowDensity_1.38.0.tar.gz StartedAt: 2024-06-27 01:42:53 -0400 (Thu, 27 Jun 2024) EndedAt: 2024-06-27 01:44:02 -0400 (Thu, 27 Jun 2024) EllapsedTime: 68.7 seconds RetCode: 0 Status: WARNINGS CheckDir: flowDensity.Rcheck Warnings: 3