Package: flowDensity Version: 1.38.0 Command: chmod a+r flowDensity -R && F:\biocbuild\bbs-3.19-bioc\R\bin\R.exe CMD build --keep-empty-dirs --no-resave-data flowDensity StartedAt: 2024-06-26 18:56:07 -0400 (Wed, 26 Jun 2024) EndedAt: 2024-06-26 18:56:10 -0400 (Wed, 26 Jun 2024) EllapsedTime: 3.0 seconds RetCode: 0 Status: OK PackageFile: flowDensity_1.38.0.tar.gz PackageFileSize: 4.295 MiB