Package: flowDensity Version: 1.38.0 Command: rm -rf flowDensity.buildbin-libdir && mkdir flowDensity.buildbin-libdir && F:\biocbuild\bbs-3.19-bioc\R\bin\R.exe CMD INSTALL --build --library=flowDensity.buildbin-libdir flowDensity_1.38.0.tar.gz StartedAt: 2024-06-27 08:13:28 -0400 (Thu, 27 Jun 2024) EndedAt: 2024-06-27 08:13:51 -0400 (Thu, 27 Jun 2024) EllapsedTime: 23.3 seconds RetCode: 0 Status: OK PackageFile: flowDensity_1.38.0.zip PackageFileSize: 4.491 MiB