Package: flowDensity Version: 1.38.0 Command: /home/biocbuild/bbs-3.19-bioc/R/bin/R CMD INSTALL flowDensity StartedAt: 2024-10-16 16:30:45 -0400 (Wed, 16 Oct 2024) EndedAt: 2024-10-16 16:30:55 -0400 (Wed, 16 Oct 2024) EllapsedTime: 9.7 seconds RetCode: 0 Status: OK