Package: flowDensity Version: 1.38.0 Command: /home/biocbuild/bbs-3.19-bioc/R/bin/R CMD check --install=check:flowDensity.install-out.txt --library=/home/biocbuild/bbs-3.19-bioc/R/site-library --timings flowDensity_1.38.0.tar.gz StartedAt: 2024-10-17 00:29:37 -0400 (Thu, 17 Oct 2024) EndedAt: 2024-10-17 00:30:31 -0400 (Thu, 17 Oct 2024) EllapsedTime: 54.1 seconds RetCode: 0 Status: WARNINGS CheckDir: flowDensity.Rcheck Warnings: 3