Package: flowDensity Version: 1.38.0 Command: /Library/Frameworks/R.framework/Resources/bin/R CMD INSTALL flowDensity StartedAt: 2024-10-16 18:00:12 -0400 (Wed, 16 Oct 2024) EndedAt: 2024-10-16 18:00:23 -0400 (Wed, 16 Oct 2024) EllapsedTime: 11.8 seconds RetCode: 0 Status: OK