Package: flowDensity Version: 1.38.0 Command: /Library/Frameworks/R.framework/Resources/bin/R CMD build --keep-empty-dirs --no-resave-data flowDensity StartedAt: 2024-10-17 00:36:06 -0400 (Thu, 17 Oct 2024) EndedAt: 2024-10-17 00:36:08 -0400 (Thu, 17 Oct 2024) EllapsedTime: 2.3 seconds RetCode: 0 Status: OK PackageFile: flowDensity_1.38.0.tar.gz PackageFileSize: 4.295 MiB