Package: flowCyBar Version: 1.40.0 Command: rm -rf flowCyBar.buildbin-libdir && mkdir flowCyBar.buildbin-libdir && F:\biocbuild\bbs-3.19-bioc\R\bin\R.exe CMD INSTALL --build --library=flowCyBar.buildbin-libdir flowCyBar_1.40.0.tar.gz StartedAt: 2024-06-27 08:13:25 -0400 (Thu, 27 Jun 2024) EndedAt: 2024-06-27 08:13:36 -0400 (Thu, 27 Jun 2024) EllapsedTime: 11.0 seconds RetCode: 0 Status: OK PackageFile: flowCyBar_1.40.0.zip PackageFileSize: 347.2 KiB