Package: flowCyBar Version: 1.40.0 Command: /Library/Frameworks/R.framework/Resources/bin/R CMD check --install=check:flowCyBar.install-out.txt --library=/Library/Frameworks/R.framework/Resources/library --no-vignettes --timings flowCyBar_1.40.0.tar.gz StartedAt: 2024-10-17 21:51:17 -0400 (Thu, 17 Oct 2024) EndedAt: 2024-10-17 21:52:16 -0400 (Thu, 17 Oct 2024) EllapsedTime: 58.7 seconds RetCode: 0 Status: OK CheckDir: flowCyBar.Rcheck Warnings: 0