Package: flowCut Version: 1.14.0 Command: chmod a+r flowCut -R && F:\biocbuild\bbs-3.19-bioc\R\bin\R.exe CMD build --keep-empty-dirs --no-resave-data flowCut StartedAt: 2024-06-26 18:55:38 -0400 (Wed, 26 Jun 2024) EndedAt: 2024-06-26 19:00:18 -0400 (Wed, 26 Jun 2024) EllapsedTime: 280.7 seconds RetCode: 0 Status: OK PackageFile: flowCut_1.14.0.tar.gz PackageFileSize: 6.732 MiB