Package: flowCut Version: 1.14.0 Command: /home/biocbuild/bbs-3.19-bioc/R/bin/R CMD check --install=check:flowCut.install-out.txt --library=/home/biocbuild/bbs-3.19-bioc/R/site-library --timings flowCut_1.14.0.tar.gz StartedAt: 2024-10-17 00:29:28 -0400 (Thu, 17 Oct 2024) EndedAt: 2024-10-17 00:30:59 -0400 (Thu, 17 Oct 2024) EllapsedTime: 91.2 seconds RetCode: 0 Status: OK CheckDir: flowCut.Rcheck Warnings: 0