Package: flowCut Version: 1.14.0 Command: /Library/Frameworks/R.framework/Resources/bin/R CMD INSTALL flowCut StartedAt: 2024-10-16 16:22:03 -0400 (Wed, 16 Oct 2024) EndedAt: 2024-10-16 16:22:23 -0400 (Wed, 16 Oct 2024) EllapsedTime: 20.2 seconds RetCode: 0 Status: OK