Package: flowCut Version: 1.14.0 Command: /Library/Frameworks/R.framework/Resources/bin/R CMD build --keep-empty-dirs --no-resave-data flowCut StartedAt: 2024-10-16 19:17:37 -0400 (Wed, 16 Oct 2024) EndedAt: 2024-10-16 19:18:58 -0400 (Wed, 16 Oct 2024) EllapsedTime: 81.4 seconds RetCode: 0 Status: OK PackageFile: flowCut_1.14.0.tar.gz PackageFileSize: 8.383 MiB