Package: flowCut Version: 1.14.0 Command: rm -rf flowCut.buildbin-libdir && mkdir flowCut.buildbin-libdir && /Users/biocbuild/BBS/utils/build-universal.sh flowCut_1.14.0.tar.gz /Library/Frameworks/R.framework/Resources/bin/R flowCut.buildbin-libdir StartedAt: 2024-10-17 16:10:31 -0400 (Thu, 17 Oct 2024) EndedAt: 2024-10-17 16:10:56 -0400 (Thu, 17 Oct 2024) EllapsedTime: 24.9 seconds RetCode: 0 Status: OK PackageFile: flowCut_1.14.0.tgz PackageFileSize: 8.062 MiB