Package: flowCut Version: 1.14.0 Maintainer: Justin Meskas MaintainerEmail: justinmeskas at gmail.com git_url: https://git.bioconductor.org/packages/flowCut git_branch: RELEASE_3_19 git_last_commit: fe7c32e git_last_commit_date: 2024-04-30 11:24:24 -0400 (Tue, 30 Apr 2024)