Package: flowCore Version: 2.16.0 Command: /home/biocbuild/bbs-3.19-bioc/R/bin/R CMD build --keep-empty-dirs --no-resave-data flowCore StartedAt: 2024-10-16 18:31:33 -0400 (Wed, 16 Oct 2024) EndedAt: 2024-10-16 18:32:56 -0400 (Wed, 16 Oct 2024) EllapsedTime: 82.2 seconds RetCode: 0 Status: OK PackageFile: flowCore_2.16.0.tar.gz PackageFileSize: 7.439 MiB