Package: flowCore Version: 2.16.0 Command: rm -rf flowCore.buildbin-libdir && mkdir flowCore.buildbin-libdir && /Users/biocbuild/BBS/utils/build-universal.sh flowCore_2.16.0.tar.gz /Library/Frameworks/R.framework/Resources/bin/R flowCore.buildbin-libdir StartedAt: 2024-10-17 16:10:28 -0400 (Thu, 17 Oct 2024) EndedAt: 2024-10-17 16:12:26 -0400 (Thu, 17 Oct 2024) EllapsedTime: 117.3 seconds RetCode: 0 Status: OK PackageFile: flowCore_2.16.0.tgz PackageFileSize: 8.174 MiB