Package: flowCore Version: 2.16.0 Command: /Library/Frameworks/R.framework/Resources/bin/R CMD build --keep-empty-dirs --no-resave-data flowCore StartedAt: 2024-06-09 16:40:22 -0400 (Sun, 09 Jun 2024) EndedAt: 2024-06-09 16:42:11 -0400 (Sun, 09 Jun 2024) EllapsedTime: 108.6 seconds RetCode: 0 Status: OK PackageFile: flowCore_2.16.0.tar.gz PackageFileSize: 7.454 MiB