Package: flowCore Version: 2.16.0 Command: rm -rf flowCore.buildbin-libdir && mkdir flowCore.buildbin-libdir && /Users/biocbuild/BBS/utils/build-universal.sh flowCore_2.16.0.tar.gz /Library/Frameworks/R.framework/Resources/bin/R flowCore.buildbin-libdir StartedAt: 2024-06-10 00:18:26 -0400 (Mon, 10 Jun 2024) EndedAt: 2024-06-10 00:19:25 -0400 (Mon, 10 Jun 2024) EllapsedTime: 58.8 seconds RetCode: 0 Status: OK PackageFile: flowCore_2.16.0.tgz PackageFileSize: 8.173 MiB