Package: flowClust Version: 3.42.0 Command: chmod a+r flowClust -R && E:\biocbuild\bbs-3.19-bioc\R\bin\R.exe CMD build --keep-empty-dirs --no-resave-data flowClust StartedAt: 2024-10-16 19:11:42 -0400 (Wed, 16 Oct 2024) EndedAt: 2024-10-16 19:13:11 -0400 (Wed, 16 Oct 2024) EllapsedTime: 88.6 seconds RetCode: 0 Status: OK PackageFile: flowClust_3.42.0.tar.gz PackageFileSize: 1.592 MiB