Package: flowClust Version: 3.42.0 Command: /home/biocbuild/bbs-3.19-bioc/R/bin/R CMD build --keep-empty-dirs --no-resave-data flowClust StartedAt: 2024-10-16 18:31:23 -0400 (Wed, 16 Oct 2024) EndedAt: 2024-10-16 18:33:10 -0400 (Wed, 16 Oct 2024) EllapsedTime: 106.3 seconds RetCode: 0 Status: OK PackageFile: flowClust_3.42.0.tar.gz PackageFileSize: 1.688 MiB