Package: flowClust Version: 3.42.0 Command: /Library/Frameworks/R.framework/Resources/bin/R CMD check --install=check:flowClust.install-out.txt --library=/Library/Frameworks/R.framework/Resources/library --no-vignettes --timings flowClust_3.42.0.tar.gz StartedAt: 2024-10-17 05:25:02 -0400 (Thu, 17 Oct 2024) EndedAt: 2024-10-17 05:34:21 -0400 (Thu, 17 Oct 2024) EllapsedTime: 559.1 seconds RetCode: 0 Status: WARNINGS CheckDir: flowClust.Rcheck Warnings: 2