Package: flowClean Version: 1.42.0 Command: E:\biocbuild\bbs-3.19-bioc\R\bin\R.exe CMD INSTALL flowClean StartedAt: 2024-10-16 16:20:09 -0400 (Wed, 16 Oct 2024) EndedAt: 2024-10-16 16:20:22 -0400 (Wed, 16 Oct 2024) EllapsedTime: 13.2 seconds RetCode: 0 Status: OK