Package: flowClean Version: 1.42.0 Command: E:\biocbuild\bbs-3.19-bioc\R\bin\R.exe CMD check --no-multiarch --install=check:flowClean.install-out.txt --library=E:\biocbuild\bbs-3.19-bioc\R\library --no-vignettes --timings flowClean_1.42.0.tar.gz StartedAt: 2024-10-17 01:31:28 -0400 (Thu, 17 Oct 2024) EndedAt: 2024-10-17 01:32:48 -0400 (Thu, 17 Oct 2024) EllapsedTime: 80.2 seconds RetCode: 0 Status: WARNINGS CheckDir: flowClean.Rcheck Warnings: 3