Package: flowClean Version: 1.42.0 Command: rm -rf flowClean.buildbin-libdir && mkdir flowClean.buildbin-libdir && E:\biocbuild\bbs-3.19-bioc\R\bin\R.exe CMD INSTALL --build --library=flowClean.buildbin-libdir flowClean_1.42.0.tar.gz StartedAt: 2024-10-17 07:48:12 -0400 (Thu, 17 Oct 2024) EndedAt: 2024-10-17 07:48:27 -0400 (Thu, 17 Oct 2024) EllapsedTime: 15.2 seconds RetCode: 0 Status: OK PackageFile: flowClean_1.42.0.zip PackageFileSize: 4.629 MiB