Package: flowClean Version: 1.42.0 Command: chmod a+r flowClean -R && F:\biocbuild\bbs-3.19-bioc\R\bin\R.exe CMD build --keep-empty-dirs --no-resave-data flowClean StartedAt: 2024-06-26 18:54:54 -0400 (Wed, 26 Jun 2024) EndedAt: 2024-06-26 19:01:04 -0400 (Wed, 26 Jun 2024) EllapsedTime: 370.4 seconds RetCode: 0 Status: OK PackageFile: flowClean_1.42.0.tar.gz PackageFileSize: 4.59 MiB