Package: flowClean Version: 1.42.0 Command: rm -rf flowClean.buildbin-libdir && mkdir flowClean.buildbin-libdir && F:\biocbuild\bbs-3.19-bioc\R\bin\R.exe CMD INSTALL --build --library=flowClean.buildbin-libdir flowClean_1.42.0.tar.gz StartedAt: 2024-06-27 08:13:17 -0400 (Thu, 27 Jun 2024) EndedAt: 2024-06-27 08:13:30 -0400 (Thu, 27 Jun 2024) EllapsedTime: 13.0 seconds RetCode: 0 Status: OK PackageFile: flowClean_1.42.0.zip PackageFileSize: 4.629 MiB