Package: flowClean Version: 1.42.0 Command: /home/biocbuild/bbs-3.19-bioc/R/bin/R CMD build --keep-empty-dirs --no-resave-data flowClean StartedAt: 2024-10-16 18:31:21 -0400 (Wed, 16 Oct 2024) EndedAt: 2024-10-16 18:31:50 -0400 (Wed, 16 Oct 2024) EllapsedTime: 29.1 seconds RetCode: 0 Status: OK PackageFile: flowClean_1.42.0.tar.gz PackageFileSize: 4.69 MiB