Package: flowClean Version: 1.42.0 Command: /Library/Frameworks/R.framework/Resources/bin/R CMD check --install=check:flowClean.install-out.txt --library=/Library/Frameworks/R.framework/Resources/library --no-vignettes --timings flowClean_1.42.0.tar.gz StartedAt: 2024-10-17 05:23:42 -0400 (Thu, 17 Oct 2024) EndedAt: 2024-10-17 05:26:30 -0400 (Thu, 17 Oct 2024) EllapsedTime: 167.7 seconds RetCode: 0 Status: WARNINGS CheckDir: flowClean.Rcheck Warnings: 3