Package: flowClean Version: 1.42.0 Command: /home/biocbuild/R/R-beta-2024-04-15_r86425/bin/R CMD check --install=check:flowClean.install-out.txt --library=/home/biocbuild/R/R-beta-2024-04-15_r86425/site-library --no-vignettes --timings flowClean_1.42.0.tar.gz StartedAt: 2024-05-09 07:28:06 -0000 (Thu, 09 May 2024) EndedAt: 2024-05-09 07:29:27 -0000 (Thu, 09 May 2024) EllapsedTime: 81.2 seconds RetCode: 0 Status: WARNINGS CheckDir: flowClean.Rcheck Warnings: 3