Package: flowClean Version: 1.42.0 Command: /home/biocbuild/R/R-beta-2024-04-15_r86425/bin/R CMD build --keep-empty-dirs --no-resave-data flowClean StartedAt: 2024-05-09 00:19:37 -0000 (Thu, 09 May 2024) EndedAt: 2024-05-09 00:20:14 -0000 (Thu, 09 May 2024) EllapsedTime: 37.0 seconds RetCode: 0 Status: OK PackageFile: flowClean_1.42.0.tar.gz PackageFileSize: 4.687 MiB