Package: flowCHIC Version: 1.38.0 Command: E:\biocbuild\bbs-3.19-bioc\R\bin\R.exe CMD INSTALL flowCHIC StartedAt: 2024-10-16 16:39:47 -0400 (Wed, 16 Oct 2024) EndedAt: 2024-10-16 16:40:07 -0400 (Wed, 16 Oct 2024) EllapsedTime: 19.2 seconds RetCode: 0 Status: OK