Package: flowCHIC Version: 1.38.0 Command: chmod a+r flowCHIC -R && E:\biocbuild\bbs-3.19-bioc\R\bin\R.exe CMD build --keep-empty-dirs --no-resave-data flowCHIC StartedAt: 2024-10-16 19:11:12 -0400 (Wed, 16 Oct 2024) EndedAt: 2024-10-16 19:11:51 -0400 (Wed, 16 Oct 2024) EllapsedTime: 39.1 seconds RetCode: 0 Status: OK PackageFile: flowCHIC_1.38.0.tar.gz PackageFileSize: 3.068 MiB