Package: flowCHIC Version: 1.38.0 Command: F:\biocbuild\bbs-3.19-bioc\R\bin\R.exe CMD INSTALL flowCHIC StartedAt: 2024-06-26 16:16:18 -0400 (Wed, 26 Jun 2024) EndedAt: 2024-06-26 16:16:36 -0400 (Wed, 26 Jun 2024) EllapsedTime: 18.5 seconds RetCode: 0 Status: OK