Package: flowCHIC Version: 1.38.0 Command: rm -rf flowCHIC.buildbin-libdir && mkdir flowCHIC.buildbin-libdir && F:\biocbuild\bbs-3.19-bioc\R\bin\R.exe CMD INSTALL --build --library=flowCHIC.buildbin-libdir flowCHIC_1.38.0.tar.gz StartedAt: 2024-06-27 08:13:15 -0400 (Thu, 27 Jun 2024) EndedAt: 2024-06-27 08:13:53 -0400 (Thu, 27 Jun 2024) EllapsedTime: 38.4 seconds RetCode: 0 Status: OK PackageFile: flowCHIC_1.38.0.zip PackageFileSize: 3.108 MiB