Package: flowBin Version: 1.40.0 Command: chmod a+r flowBin -R && E:\biocbuild\bbs-3.19-bioc\R\bin\R.exe CMD build --keep-empty-dirs --no-resave-data flowBin StartedAt: 2024-10-16 19:11:10 -0400 (Wed, 16 Oct 2024) EndedAt: 2024-10-16 19:11:41 -0400 (Wed, 16 Oct 2024) EllapsedTime: 30.8 seconds RetCode: 0 Status: OK PackageFile: flowBin_1.40.0.tar.gz PackageFileSize: 483.4 KiB