Package: flowBin Version: 1.40.0 Command: rm -rf flowBin.buildbin-libdir && mkdir flowBin.buildbin-libdir && E:\biocbuild\bbs-3.19-bioc\R\bin\R.exe CMD INSTALL --build --library=flowBin.buildbin-libdir flowBin_1.40.0.tar.gz StartedAt: 2024-10-17 07:48:07 -0400 (Thu, 17 Oct 2024) EndedAt: 2024-10-17 07:48:35 -0400 (Thu, 17 Oct 2024) EllapsedTime: 28.9 seconds RetCode: 0 Status: OK PackageFile: flowBin_1.40.0.zip PackageFileSize: 750.1 KiB