Package: flowBin Version: 1.40.0 Command: /home/biocbuild/bbs-3.19-bioc/R/bin/R CMD INSTALL flowBin StartedAt: 2024-10-16 15:59:47 -0400 (Wed, 16 Oct 2024) EndedAt: 2024-10-16 15:59:59 -0400 (Wed, 16 Oct 2024) EllapsedTime: 12.6 seconds RetCode: 0 Status: OK