Package: flowBin Version: 1.40.0 Command: /Library/Frameworks/R.framework/Resources/bin/R CMD build --keep-empty-dirs --no-resave-data flowBin StartedAt: 2024-10-16 19:16:51 -0400 (Wed, 16 Oct 2024) EndedAt: 2024-10-16 19:18:01 -0400 (Wed, 16 Oct 2024) EllapsedTime: 69.8 seconds RetCode: 0 Status: OK PackageFile: flowBin_1.40.0.tar.gz PackageFileSize: 575.3 KiB