Package: flowBin Version: 1.40.0 Command: rm -rf flowBin.buildbin-libdir && mkdir flowBin.buildbin-libdir && /Users/biocbuild/BBS/utils/build-universal.sh flowBin_1.40.0.tar.gz /Library/Frameworks/R.framework/Resources/bin/R flowBin.buildbin-libdir StartedAt: 2024-06-11 11:15:00 -0400 (Tue, 11 Jun 2024) EndedAt: 2024-06-11 11:15:22 -0400 (Tue, 11 Jun 2024) EllapsedTime: 22.1 seconds RetCode: 0 Status: OK PackageFile: flowBin_1.40.0.tgz PackageFileSize: 838.6 KiB