Package: flowBeads Version: 1.42.0 Command: rm -rf flowBeads.buildbin-libdir && mkdir flowBeads.buildbin-libdir && E:\biocbuild\bbs-3.19-bioc\R\bin\R.exe CMD INSTALL --build --library=flowBeads.buildbin-libdir flowBeads_1.42.0.tar.gz StartedAt: 2024-10-17 07:48:05 -0400 (Thu, 17 Oct 2024) EndedAt: 2024-10-17 07:48:48 -0400 (Thu, 17 Oct 2024) EllapsedTime: 43.2 seconds RetCode: 0 Status: OK PackageFile: flowBeads_1.42.0.zip PackageFileSize: 1.087 MiB