Package: flowBeads Version: 1.42.0 Command: chmod a+r flowBeads -R && F:\biocbuild\bbs-3.19-bioc\R\bin\R.exe CMD build --keep-empty-dirs --no-resave-data flowBeads StartedAt: 2024-06-26 18:54:15 -0400 (Wed, 26 Jun 2024) EndedAt: 2024-06-26 18:54:41 -0400 (Wed, 26 Jun 2024) EllapsedTime: 25.8 seconds RetCode: 0 Status: OK PackageFile: flowBeads_1.42.0.tar.gz PackageFileSize: 833.9 KiB