Package: flowBeads Version: 1.42.0 Command: rm -rf flowBeads.buildbin-libdir && mkdir flowBeads.buildbin-libdir && F:\biocbuild\bbs-3.19-bioc\R\bin\R.exe CMD INSTALL --build --library=flowBeads.buildbin-libdir flowBeads_1.42.0.tar.gz StartedAt: 2024-06-27 08:13:09 -0400 (Thu, 27 Jun 2024) EndedAt: 2024-06-27 08:13:34 -0400 (Thu, 27 Jun 2024) EllapsedTime: 25.4 seconds RetCode: 0 Status: OK PackageFile: flowBeads_1.42.0.zip PackageFileSize: 1.085 MiB