Package: flowBeads Version: 1.42.0 Command: /home/biocbuild/R/R-beta-2024-04-15_r86425/bin/R CMD INSTALL flowBeads StartedAt: 2024-05-08 20:16:38 -0000 (Wed, 08 May 2024) EndedAt: 2024-05-08 20:16:53 -0000 (Wed, 08 May 2024) EllapsedTime: 15.2 seconds RetCode: 0 Status: OK