Package: flowBeads Version: 1.42.0 Command: /Library/Frameworks/R.framework/Resources/bin/R CMD check --install=check:flowBeads.install-out.txt --library=/Library/Frameworks/R.framework/Resources/library --no-vignettes --timings flowBeads_1.42.0.tar.gz StartedAt: 2024-10-17 21:48:04 -0400 (Thu, 17 Oct 2024) EndedAt: 2024-10-17 21:49:20 -0400 (Thu, 17 Oct 2024) EllapsedTime: 76.0 seconds RetCode: 0 Status: WARNINGS CheckDir: flowBeads.Rcheck Warnings: 2