Package: flowAI Version: 1.34.0 Command: rm -rf flowAI.buildbin-libdir && mkdir flowAI.buildbin-libdir && E:\biocbuild\bbs-3.19-bioc\R\bin\R.exe CMD INSTALL --build --library=flowAI.buildbin-libdir flowAI_1.34.0.tar.gz StartedAt: 2024-10-17 07:48:03 -0400 (Thu, 17 Oct 2024) EndedAt: 2024-10-17 07:48:21 -0400 (Thu, 17 Oct 2024) EllapsedTime: 18.8 seconds RetCode: 0 Status: OK PackageFile: flowAI_1.34.0.zip PackageFileSize: 4.789 MiB