Package: flowAI Version: 1.34.0 Command: /home/biocbuild/bbs-3.19-bioc/R/bin/R CMD check --install=check:flowAI.install-out.txt --library=/home/biocbuild/bbs-3.19-bioc/R/site-library --timings flowAI_1.34.0.tar.gz StartedAt: 2024-10-17 00:28:23 -0400 (Thu, 17 Oct 2024) EndedAt: 2024-10-17 00:29:31 -0400 (Thu, 17 Oct 2024) EllapsedTime: 68.2 seconds RetCode: 0 Status: OK CheckDir: flowAI.Rcheck Warnings: 0