Package: flowAI Version: 1.34.0 Command: /Library/Frameworks/R.framework/Resources/bin/R CMD build --keep-empty-dirs --no-resave-data flowAI StartedAt: 2024-10-16 19:16:17 -0400 (Wed, 16 Oct 2024) EndedAt: 2024-10-16 19:16:58 -0400 (Wed, 16 Oct 2024) EllapsedTime: 40.3 seconds RetCode: 0 Status: OK PackageFile: flowAI_1.34.0.tar.gz PackageFileSize: 3.747 MiB