Package: flowAI Version: 1.34.0 Command: /Library/Frameworks/R.framework/Resources/bin/R CMD check --install=check:flowAI.install-out.txt --library=/Library/Frameworks/R.framework/Resources/library --no-vignettes --timings flowAI_1.34.0.tar.gz StartedAt: 2024-06-09 20:24:34 -0400 (Sun, 09 Jun 2024) EndedAt: 2024-06-09 20:25:58 -0400 (Sun, 09 Jun 2024) EllapsedTime: 83.3 seconds RetCode: 0 Status: OK CheckDir: flowAI.Rcheck Warnings: 0